BEGIN:VCALENDAR
VERSION:2.0
PRODID:-//IHC - ECPv6.15.20//NONSGML v1.0//EN
CALSCALE:GREGORIAN
METHOD:PUBLISH
X-WR-CALNAME:IHC
X-ORIGINAL-URL:https://ihconvention.com
X-WR-CALDESC:Events for IHC
REFRESH-INTERVAL;VALUE=DURATION:PT1H
X-Robots-Tag:noindex
X-PUBLISHED-TTL:PT1H
BEGIN:VTIMEZONE
TZID:America/New_York
BEGIN:DAYLIGHT
TZOFFSETFROM:-0500
TZOFFSETTO:-0400
TZNAME:EDT
DTSTART:20250309T070000
END:DAYLIGHT
BEGIN:STANDARD
TZOFFSETFROM:-0400
TZOFFSETTO:-0500
TZNAME:EST
DTSTART:20251102T060000
END:STANDARD
BEGIN:DAYLIGHT
TZOFFSETFROM:-0500
TZOFFSETTO:-0400
TZNAME:EDT
DTSTART:20260308T070000
END:DAYLIGHT
BEGIN:STANDARD
TZOFFSETFROM:-0400
TZOFFSETTO:-0500
TZNAME:EST
DTSTART:20261101T060000
END:STANDARD
BEGIN:DAYLIGHT
TZOFFSETFROM:-0500
TZOFFSETTO:-0400
TZNAME:EDT
DTSTART:20270314T070000
END:DAYLIGHT
BEGIN:STANDARD
TZOFFSETFROM:-0400
TZOFFSETTO:-0500
TZNAME:EST
DTSTART:20271107T060000
END:STANDARD
END:VTIMEZONE
BEGIN:VEVENT
DTSTART;VALUE=DATE:20260107
DTEND;VALUE=DATE:20260112
DTSTAMP:20260420T045433
CREATED:20250116T152003Z
LAST-MODIFIED:20260111T141624Z
UID:41578-1767744000-1768175999@ihconvention.com
SUMMARY:Florida Traveling Convention
DESCRIPTION:Various Churches in Florida \nTravel Along With Us \n(Wednesday – Sunday) \n			\n			\n				\n				\n				\n				\n			\n				\n				\n				\n				\n				\n				\n				\n				\n				\n				\n				\n			\n			\n				\n				\n				\n				\n				\n				\n				\n				\n				\n				\n			\n			\n				\n				\n				\n				\n				\n				\n				\n				\n				\n				\n			\n			\n				\n				\n				\n				\n			\n				\n				\n				\n				\n				\n				\n				\n				\n				\n				\n				Convention Moderator \nStephen Cassady \nPreaching \nChester HandfieldDaniel BrandonHobe Sound Ministerial \nSinging \nDaniel and Kendra BrandonHobe Sound Bible College \nInformation \nCoordinator: Stephen Cassady 570-658-1030 \n			\n			\n				\n				\n				\n				\n				\n				\n				\n				\n				\n				Service Schedule \nWednesday \nHobe Sound Bible Church11295 SE Gomez Avenue\, Hobe SoundHost Pastor: Matt Ellison 772-546-5696~~~7:00 PM Evening Service \nThursday \nHobe Sound Bible College11295 SE Gomez Avenue\, Hobe SoundHost: Matt Maloyed 772-546-553410:45 AM Morning Service \n___ \nGod’s Missionary Church6679 E 174th Lane\, SummerfieldHost Pastor: Jeff Stratton 570-765-0926~~~7:00 PM Music and “From the Heart”Speakers: Hobe Sound Bible College MinisterialMusic: Hobe Sound Bible College7:30 PM Evening Service \nFriday \nCamp Freedom Holiness Church6980 54th Avenue N\, St. PetersburgHost Pastor: Michael Musser 570-332-2663~~~7:00 PM Music and “From the Heart”Speakers: Hobe Sound Bible College MinisterialMusic: Hobe Sound Bible College7:30 PM Evening Service \nSaturday \nFort Myers Rescue Mission6900 Mission Lane\, Fort MyersHost: Phil Ledger 239-334-7365~~~2:30 PM Afternoon Service: \n7:00 PM Music and “From the Heart”Speakers: Hobe Sound Bible College MinisterialMusic: Hobe Sound Bible College7:30 PM Evening Service \nSunday \nHobe Sound Bible Church11295 SE Gomez Avenue\, Hobe SoundHost Pastor: Matt Ellison 772-546-5696~~~6:00 PM Music and “From the Heart”Speakers: Hobe Sound Bible College MinisterialMusic: Hobe Sound Bible College6:30 PM Evening Service: \nSpecial Music:Hobe Sound Bible College Chapel Choir \n			\n			\n				\n				\n				\n				\n			\n				\n				\n				\n				\n				\n				\n				\n				\n				\n				\n				FUTURE DATES: \nJanuary 6-10\, 2027January 5-9\, 2028January 10-14\, 2029 \nThe Florida InterChurch Holiness Convention is held Wednesday thru Sunday ending the second Sunday in January.
URL:https://ihconvention.com/event/florida-traveling-convention/
LOCATION:Hobe Sound Bible Church\, 11295 SE Gomez Avenue\, Hobe Sound\, FL\, 33455\, United States
CATEGORIES:Regional Events
ATTACH;FMTTYPE=image/jpeg:https://ihconvention.com/wp-content/uploads/2019/11/Florida.jpg
END:VEVENT
END:VCALENDAR