BEGIN:VCALENDAR
VERSION:2.0
PRODID:-//IHC - ECPv6.15.20//NONSGML v1.0//EN
CALSCALE:GREGORIAN
METHOD:PUBLISH
X-WR-CALNAME:IHC
X-ORIGINAL-URL:https://ihconvention.com
X-WR-CALDESC:Events for IHC
REFRESH-INTERVAL;VALUE=DURATION:PT1H
X-Robots-Tag:noindex
X-PUBLISHED-TTL:PT1H
BEGIN:VTIMEZONE
TZID:America/New_York
BEGIN:DAYLIGHT
TZOFFSETFROM:-0500
TZOFFSETTO:-0400
TZNAME:EDT
DTSTART:20250309T070000
END:DAYLIGHT
BEGIN:STANDARD
TZOFFSETFROM:-0400
TZOFFSETTO:-0500
TZNAME:EST
DTSTART:20251102T060000
END:STANDARD
BEGIN:DAYLIGHT
TZOFFSETFROM:-0500
TZOFFSETTO:-0400
TZNAME:EDT
DTSTART:20260308T070000
END:DAYLIGHT
BEGIN:STANDARD
TZOFFSETFROM:-0400
TZOFFSETTO:-0500
TZNAME:EST
DTSTART:20261101T060000
END:STANDARD
BEGIN:DAYLIGHT
TZOFFSETFROM:-0500
TZOFFSETTO:-0400
TZNAME:EDT
DTSTART:20270314T070000
END:DAYLIGHT
BEGIN:STANDARD
TZOFFSETFROM:-0400
TZOFFSETTO:-0500
TZNAME:EST
DTSTART:20271107T060000
END:STANDARD
END:VTIMEZONE
BEGIN:VEVENT
DTSTART;VALUE=DATE:20260216
DTEND;VALUE=DATE:20260219
DTSTAMP:20260418T022652
CREATED:20250417T120729Z
LAST-MODIFIED:20260111T142540Z
UID:41911-1771200000-1771459199@ihconvention.com
SUMMARY:Indianapolis Area Traveling Convention
DESCRIPTION:Various Churches In the Indianapolis AreaHosted by Union Bible College \nTravel Along With Us \n(Monday-Wednesday) \n			\n			\n				\n				\n				\n				\n			\n				\n				\n				\n				\n				\n				\n				\n				\n				\n				\n				\n			\n			\n				\n				\n				\n				\n				\n				\n				\n				\n				\n				\n			\n			\n				\n				\n				\n				\n				\n				\n				\n				\n				\n				\n			\n			\n				\n				\n				\n				\n				\n				\n				\n				\n				\n				\n			\n			\n				\n				\n				\n				\n			\n				\n				\n				\n				\n				\n				\n				\n				\n				\n				\n				Convention Moderator \nStephen Cassady \nPreaching \nJoseph SmithStewart QuesenberryUnion Bible College Ministerial \nSinging \nStephen\, Nicole\, and Ashton CassadyUnion Bible College Music Department \nInformation \nConvention Host: Phil Hoard 317-509-1326 \n			\n			\n				\n				\n				\n				\n				\n				\n				\n				\n				\n				Service Schedule \nMonday \nSoutheastern Holiness3957 Southeastern Avenue\, IndianapolisHost Pastor: Kenny Stetler 859-835-1568 \n7:00 PM Music and “From the Heart”Union Bible College MinisterialMusic: Union Bible College \n7:30 PM Evening Service \nTuesday \nUNION BIBLE COLLEGE434 South Union Street\, Westfield10:45 AM Morning Service \nTuesday Evening: \nWesleyan Christian Church725 E. Iowa St\, IndianapolisHost Pastor: Tom Phillips 317-753-1153 \n7:00 PM Music and “From the Heart”Union Bible College MinisterialMusic: Union Bible College \n7:30 PM Evening Service \nWednesday \nUNION BIBLE COLLEGE434 South Union Street\, Westfield10:45 AM Morning Service \n12:00 NOON Fasting & Prayer \nWednesday Evening \nNoblesville Pilgrim Holiness Church1413 Westfield Road\, NoblesvilleHost Pastor: John Forsee 989-280-1162 \n7:00 PM Music and “From the Heart”Union Bible College MinisterialMusic: Union Bible College \n7:30 PM Evening ServiceSpecial Music: Union Bible College Choir \n  \n\n			\n			\n				\n				\n				\n				\n			\n				\n				\n				\n				\n				\n				\n				\n				\n				\n				\n				FUTURE DATES: \n*February 16-19\, 2027 TODFebruary 14-16\, 2028February 12-14\, 2029February  11-13\, 2030 \nThe Indianapolis Area Convention is conducted in conjunction with Union Bible College\, Monday-Wednesday each year\, the week of the third Thursday in February.
URL:https://ihconvention.com/event/indianapolis-area-traveling-convention/
LOCATION:Indianapolis Area Convention\, Westfield\, Indiana\, 46074
CATEGORIES:Regional Events
ATTACH;FMTTYPE=image/jpeg:https://ihconvention.com/wp-content/uploads/2022/05/EFBBEA03-EADB-4311-947A-FF4CA00692CD.jpeg
END:VEVENT
END:VCALENDAR