BEGIN:VCALENDAR
VERSION:2.0
PRODID:-//IHC - ECPv6.15.20//NONSGML v1.0//EN
CALSCALE:GREGORIAN
METHOD:PUBLISH
X-WR-CALNAME:IHC
X-ORIGINAL-URL:https://ihconvention.com
X-WR-CALDESC:Events for IHC
REFRESH-INTERVAL;VALUE=DURATION:PT1H
X-Robots-Tag:noindex
X-PUBLISHED-TTL:PT1H
BEGIN:VTIMEZONE
TZID:America/New_York
BEGIN:DAYLIGHT
TZOFFSETFROM:-0500
TZOFFSETTO:-0400
TZNAME:EDT
DTSTART:20250309T070000
END:DAYLIGHT
BEGIN:STANDARD
TZOFFSETFROM:-0400
TZOFFSETTO:-0500
TZNAME:EST
DTSTART:20251102T060000
END:STANDARD
BEGIN:DAYLIGHT
TZOFFSETFROM:-0500
TZOFFSETTO:-0400
TZNAME:EDT
DTSTART:20260308T070000
END:DAYLIGHT
BEGIN:STANDARD
TZOFFSETFROM:-0400
TZOFFSETTO:-0500
TZNAME:EST
DTSTART:20261101T060000
END:STANDARD
BEGIN:DAYLIGHT
TZOFFSETFROM:-0500
TZOFFSETTO:-0400
TZNAME:EDT
DTSTART:20270314T070000
END:DAYLIGHT
BEGIN:STANDARD
TZOFFSETFROM:-0400
TZOFFSETTO:-0500
TZNAME:EST
DTSTART:20271107T060000
END:STANDARD
END:VTIMEZONE
BEGIN:VEVENT
DTSTART;VALUE=DATE:20260121
DTEND;VALUE=DATE:20260126
DTSTAMP:20260420T112200
CREATED:20250801T202621Z
LAST-MODIFIED:20260111T142237Z
UID:42319-1768953600-1769385599@ihconvention.com
SUMMARY:Grand Cayman Island Convention
DESCRIPTION:Wesleyan Holiness Church \n150 North West Point Road\, West Bay\, Cayman Islands\, West Indies \n(Wednesday – Sunday) \n			\n			\n				\n				\n				\n				\n			\n				\n				\n				\n				\n				\n				\n				\n				\n				\n				\n				\n			\n			\n				\n				\n				\n				\n				\n				\n				\n				\n				\n				\n			\n			\n				\n				\n				\n				\n				\n				\n				\n				\n				\n				\n			\n			\n				\n				\n				\n				\n			\n				\n				\n				\n				\n				\n				\n				\n				\n				\n				\n				Moderator \nJohn Zechman \nPreaching \nDan Stetler and John Zechman \nSinging \nKeith and Sharon Waggoner \nInformation \nCoordinator: Stephen Cassady scassady@ihconvention.comLocal Contact: 345-949-3394 \n			\n			\n				\n				\n				\n				\n				\n				\n				\n				\n				\n				Service Schedule \nWednesday  \n7:00 PM Evening Service \nThursday \n8:15 AM Morning Service \n7:00 PM Evening Service \nFriday \n8:15 AM Morning Service \n6:00 PM Evening Service \nSunday \n10:00 AM Morning Service \n7:00 PM Evening Service \n\n			\n			\n				\n				\n				\n				\n			\n				\n				\n				\n				\n				\n				\n				\n				\n				\n				\n				FUTURE DATES: \nJanuary 20-24\, 2027January 19-23\, 2028January  24-28\, 2029January 23-27\, 2030January  22-26\, 2031January  21-25\, 2032 \nThe Grand Cayman InterChurch Holiness Convention is held annually beginning the Wednesday after the third Sunday in January
URL:https://ihconvention.com/event/grand-cayman-island-convention-2/
LOCATION:Wesleyan Holiness Church\, 150 North West Point Road\, West Bay\, Cayman Islands
CATEGORIES:Regional Events
ATTACH;FMTTYPE=image/jpeg:https://ihconvention.com/wp-content/uploads/2017/02/CaymanIsland.jpg
END:VEVENT
END:VCALENDAR