BEGIN:VCALENDAR
VERSION:2.0
PRODID:-//IHC - ECPv6.15.20//NONSGML v1.0//EN
CALSCALE:GREGORIAN
METHOD:PUBLISH
X-WR-CALNAME:IHC
X-ORIGINAL-URL:https://ihconvention.com
X-WR-CALDESC:Events for IHC
REFRESH-INTERVAL;VALUE=DURATION:PT1H
X-Robots-Tag:noindex
X-PUBLISHED-TTL:PT1H
BEGIN:VTIMEZONE
TZID:Asia/Manila
BEGIN:STANDARD
TZOFFSETFROM:+0800
TZOFFSETTO:+0800
TZNAME:PST
DTSTART:20250101T000000
END:STANDARD
END:VTIMEZONE
BEGIN:VEVENT
DTSTART;VALUE=DATE:20260206
DTEND;VALUE=DATE:20260209
DTSTAMP:20260420T094033
CREATED:20260111T193130Z
LAST-MODIFIED:20260111T193511Z
UID:48648-1770336000-1770595199@ihconvention.com
SUMMARY:Philippines Traveling Convention
DESCRIPTION:International Bible FellowshipPhilippines \n(Friday – Sunday) \n\n			\n			\n				\n				\n				\n				\n			\n				\n				\n				\n				\n				\n				\n				\n				\n				\n				\n				\n			\n			\n				\n				\n				\n				\n				\n				\n				\n				\n				\n				\n			\n			\n				\n				\n				\n				\n				\n				\n				\n				\n				\n				\n			\n			\n				\n				\n				\n				\n			\n				\n				\n				\n				\n				\n				\n				\n				\n				\n				\n				Convention ModeratorStephen Cassady \nPreachingChris Dewhurst and Stephen Cassady \nSingingChris\, Constance and Joel Dewhurst. \nInformationAsia-Orient Missions Coordinator: Gloria Pangilinan #0956-611-3340 \n\n			\n			\n				\n				\n				\n				\n				\n				\n				\n				\n				\n				Service Schedule \nFriday \nTaratara Christian Bible Fellowship\, Inc.Zone 6\, Taratara\, Sison\, PangasinanContact: Pastora Imelda O. Ronquillo #0956-744-3641 \n7:00 PM Evening Service \nSaturday \nAbogado International Bible Fellowship ChurchAbogado 2\, Paniqui\, TarlacContact: Sis. Gloria Pangilinan #0956-611-3340 \n9:00 AM Morning Service \n~~~~~~~~~~~~~~~~~ \n Christ Living Epistle Church5213 Kamagong St.\, Ninabel\, Dau\, PampangaContact: Pastor Rogie Gomez #0933-303-0517 \n6:00 PM Evening Service \n  \nSunday \nSual International Bible Fellowship ChurchSitio Daya\, Brgy. Calombuyan\, Sual\, PangasinanContact: Pastor James Arzadon #0908-270-3481 / 0922-317-6209 \n9:00 AM Morning Service \n4:00 PM Afternoon Service \n  \n\n			\n			\n				\n				\n				\n				\n			\n				\n				\n				\n				\n				\n				\n				\n				\n				\n				\n				FUTURE DATES:\nTo Be Announced \n\n			\n				\n				\n				\n				\n				\nView All Regional Events
URL:https://ihconvention.com/event/philippines-traveling-convention-2/
LOCATION:Philippines\, Philippines
ATTACH;FMTTYPE=image/jpeg:https://ihconvention.com/wp-content/uploads/2024/06/Philippines.jpg
END:VEVENT
END:VCALENDAR