BEGIN:VCALENDAR
VERSION:2.0
PRODID:-//IHC - ECPv6.15.20//NONSGML v1.0//EN
CALSCALE:GREGORIAN
METHOD:PUBLISH
X-WR-CALNAME:IHC
X-ORIGINAL-URL:https://ihconvention.com
X-WR-CALDESC:Events for IHC
REFRESH-INTERVAL;VALUE=DURATION:PT1H
X-Robots-Tag:noindex
X-PUBLISHED-TTL:PT1H
BEGIN:VTIMEZONE
TZID:America/Chicago
BEGIN:DAYLIGHT
TZOFFSETFROM:-0600
TZOFFSETTO:-0500
TZNAME:CDT
DTSTART:20250309T080000
END:DAYLIGHT
BEGIN:STANDARD
TZOFFSETFROM:-0500
TZOFFSETTO:-0600
TZNAME:CST
DTSTART:20251102T070000
END:STANDARD
BEGIN:DAYLIGHT
TZOFFSETFROM:-0600
TZOFFSETTO:-0500
TZNAME:CDT
DTSTART:20260308T080000
END:DAYLIGHT
BEGIN:STANDARD
TZOFFSETFROM:-0500
TZOFFSETTO:-0600
TZNAME:CST
DTSTART:20261101T070000
END:STANDARD
BEGIN:DAYLIGHT
TZOFFSETFROM:-0600
TZOFFSETTO:-0500
TZNAME:CDT
DTSTART:20270314T080000
END:DAYLIGHT
BEGIN:STANDARD
TZOFFSETFROM:-0500
TZOFFSETTO:-0600
TZNAME:CST
DTSTART:20271107T070000
END:STANDARD
END:VTIMEZONE
BEGIN:VEVENT
DTSTART;VALUE=DATE:20260219
DTEND;VALUE=DATE:20260221
DTSTAMP:20260418T062154
CREATED:20250320T151611Z
LAST-MODIFIED:20260130T212945Z
UID:41715-1771459200-1771631999@ihconvention.com
SUMMARY:Eastern Iowa Convention
DESCRIPTION:Wesleyan Nazarene Church \n1501 North Marquette Street\, Davenport \n(Thursday-Friday) \n			\n			\n				\n				\n				\n				\n			\n				\n				\n				\n				\n				\n				\n				\n				\n				\n				\n				\n			\n			\n				\n				\n				\n				\n				\n				\n				\n				\n				\n				\n			\n			\n				\n				\n				\n				\n				\n				\n				\n				\n				\n				\n			\n			\n				\n				\n				\n				\n			\n				\n				\n				\n				\n				\n				\n				\n				\n				\n				\n				Convention ModeratorDaniel Stetler \nPreachingJoseph Smith and Daniel Stetler \nSingingLuther and Olivia Cole \nInformationHost Pastor: Joshua Davis 563-293-0652 \n			\n			\n				\n				\n				\n				\n				\n				\n				\n				\n				\n				Service Schedule \nThursday7:00 PM Evening Service \nFriday10:30 AM Morning Service \n7:00 PM Evening Service \n			\n			\n				\n				\n				\n				\n			\n				\n				\n				\n				\n				\n				\n				\n				\n				\n				\n				FUTURE DATES:February 18-19\, 2027February 17-18\, 2028February 15-16\, 2029 \nThe Eastern Iowa InterChurch Holiness Convention is two days beginning the third Thursday in February.
URL:https://ihconvention.com/event/eastern-iowa-convention/
LOCATION:Wesleyan Nazarene Church\, 1501 North Marquette Street\, Davenport\, IA\, 52804\, United States
CATEGORIES:Regional Events
ATTACH;FMTTYPE=image/jpeg:https://ihconvention.com/wp-content/uploads/2024/06/Iowa.Davenport.jpg
END:VEVENT
END:VCALENDAR