BEGIN:VCALENDAR
VERSION:2.0
PRODID:-//IHC - ECPv6.15.20//NONSGML v1.0//EN
CALSCALE:GREGORIAN
METHOD:PUBLISH
X-WR-CALNAME:IHC
X-ORIGINAL-URL:https://ihconvention.com
X-WR-CALDESC:Events for IHC
REFRESH-INTERVAL;VALUE=DURATION:PT1H
X-Robots-Tag:noindex
X-PUBLISHED-TTL:PT1H
BEGIN:VTIMEZONE
TZID:America/Los_Angeles
BEGIN:DAYLIGHT
TZOFFSETFROM:-0800
TZOFFSETTO:-0700
TZNAME:PDT
DTSTART:20250309T100000
END:DAYLIGHT
BEGIN:STANDARD
TZOFFSETFROM:-0700
TZOFFSETTO:-0800
TZNAME:PST
DTSTART:20251102T090000
END:STANDARD
BEGIN:DAYLIGHT
TZOFFSETFROM:-0800
TZOFFSETTO:-0700
TZNAME:PDT
DTSTART:20260308T100000
END:DAYLIGHT
BEGIN:STANDARD
TZOFFSETFROM:-0700
TZOFFSETTO:-0800
TZNAME:PST
DTSTART:20261101T090000
END:STANDARD
BEGIN:DAYLIGHT
TZOFFSETFROM:-0800
TZOFFSETTO:-0700
TZNAME:PDT
DTSTART:20270314T100000
END:DAYLIGHT
BEGIN:STANDARD
TZOFFSETFROM:-0700
TZOFFSETTO:-0800
TZNAME:PST
DTSTART:20271107T090000
END:STANDARD
END:VTIMEZONE
BEGIN:VEVENT
DTSTART;VALUE=DATE:20260324
DTEND;VALUE=DATE:20260330
DTSTAMP:20260420T080823
CREATED:20250912T200336Z
LAST-MODIFIED:20251123T044224Z
UID:42555-1774310400-1774828799@ihconvention.com
SUMMARY:Alaska State Convention
DESCRIPTION:North Pole Missionary Chapel\n2485 Dawson Road\, North Pole\n(Tuesday-Sunday)\n			\n			\n				\n				\n				\n				\n			\n				\n				\n				\n				\n				\n				\n				\n				\n				\n				\n				\n			\n			\n				\n				\n				\n				\n			\n				\n				\n				\n				\n				\n				\n				\n				\n				\n				\n				PreachingClair Sams \nInformationHost Pastor: Randy Huff 540-597-7476 \n			\n			\n				\n				\n				\n				\n				\n				\n				\n				\n				\n				Service Schedule \nTuesday-Saturday \n7:00 pm Evening Service \nSunday \n6:00 PM Evening Service \n			\n			\n				\n				\n				\n				\n			\n				\n				\n				\n				\n				\n				\n				\n				\n				\n				\n				FUTURE DATES: \nMarch 16-21\, 2027*March 21-26\, 2028 \nThe Alaska InterChurch Holiness Convention\, sponsored by the Far North Missionary Fellowship\, is held each year Tuesday-Sunday\, ending the last Sunday in March.*The convention moves to the week previous if it closes on Easter Sunday.
URL:https://ihconvention.com/event/alaska-state-convention/
LOCATION:North Pole Missionary Chapel\, 2485 Dawson Road\, North Pole\, AK\, 99705\, United States
CATEGORIES:Regional Events
ATTACH;FMTTYPE=image/jpeg:https://ihconvention.com/wp-content/uploads/2018/02/Alaska.jpg
END:VEVENT
END:VCALENDAR