BEGIN:VCALENDAR
VERSION:2.0
PRODID:-//IHC - ECPv6.15.20//NONSGML v1.0//EN
CALSCALE:GREGORIAN
METHOD:PUBLISH
X-ORIGINAL-URL:https://ihconvention.com
X-WR-CALDESC:Events for IHC
REFRESH-INTERVAL;VALUE=DURATION:PT1H
X-Robots-Tag:noindex
X-PUBLISHED-TTL:PT1H
BEGIN:VTIMEZONE
TZID:America/New_York
BEGIN:DAYLIGHT
TZOFFSETFROM:-0500
TZOFFSETTO:-0400
TZNAME:EDT
DTSTART:20250309T070000
END:DAYLIGHT
BEGIN:STANDARD
TZOFFSETFROM:-0400
TZOFFSETTO:-0500
TZNAME:EST
DTSTART:20251102T060000
END:STANDARD
BEGIN:DAYLIGHT
TZOFFSETFROM:-0500
TZOFFSETTO:-0400
TZNAME:EDT
DTSTART:20260308T070000
END:DAYLIGHT
BEGIN:STANDARD
TZOFFSETFROM:-0400
TZOFFSETTO:-0500
TZNAME:EST
DTSTART:20261101T060000
END:STANDARD
BEGIN:DAYLIGHT
TZOFFSETFROM:-0500
TZOFFSETTO:-0400
TZNAME:EDT
DTSTART:20270314T070000
END:DAYLIGHT
BEGIN:STANDARD
TZOFFSETFROM:-0400
TZOFFSETTO:-0500
TZNAME:EST
DTSTART:20271107T060000
END:STANDARD
END:VTIMEZONE
BEGIN:VTIMEZONE
TZID:America/New_York
BEGIN:DAYLIGHT
TZOFFSETFROM:-0500
TZOFFSETTO:-0400
TZNAME:EDT
DTSTART:20250309T070000
END:DAYLIGHT
BEGIN:STANDARD
TZOFFSETFROM:-0400
TZOFFSETTO:-0500
TZNAME:EST
DTSTART:20251102T060000
END:STANDARD
BEGIN:DAYLIGHT
TZOFFSETFROM:-0500
TZOFFSETTO:-0400
TZNAME:EDT
DTSTART:20260308T070000
END:DAYLIGHT
BEGIN:STANDARD
TZOFFSETFROM:-0400
TZOFFSETTO:-0500
TZNAME:EST
DTSTART:20261101T060000
END:STANDARD
BEGIN:DAYLIGHT
TZOFFSETFROM:-0500
TZOFFSETTO:-0400
TZNAME:EDT
DTSTART:20270314T070000
END:DAYLIGHT
BEGIN:STANDARD
TZOFFSETFROM:-0400
TZOFFSETTO:-0500
TZNAME:EST
DTSTART:20271107T060000
END:STANDARD
END:VTIMEZONE
BEGIN:VEVENT
DTSTART;VALUE=DATE:20260505
DTEND;VALUE=DATE:20260507
DTSTAMP:20260420T081239
CREATED:20251016T141432Z
LAST-MODIFIED:20260304T125608Z
UID:42607-1777939200-1778111999@ihconvention.com
SUMMARY:Texas State Convention
DESCRIPTION:Sherman Bible Methodist Church \n11141 State Highway 56 East\, Sherman \n(Tuesday and Wednesday) \n			\n			\n				\n				\n				\n				\n			\n				\n				\n				\n				\n				\n				\n				\n				\n				\n				\n				\n			\n			\n				\n				\n				\n				\n				\n				\n				\n				\n				\n				\n			\n			\n				\n				\n				\n				\n				\n				\n				\n				\n				\n				\n			\n			\n				\n				\n				\n				\n			\n				\n				\n				\n				\n				\n				\n				\n				\n				\n				\n				Convention Moderator \nStephen Cassady \nPreaching \nHarry Plank \nSinging \nDuane and Valorie Quesenberry \nInformation \nHost Pastor: Steve Snodgrass ‭903-816-0175 \n			\n			\n				\n				\n				\n				\n				\n				\n				\n				\n				\n				Service Schedule \nTuesday \n7:00 PM Evening Service \nWednesday \n7:00 PM Evening Service \n			\n			\n				\n				\n				\n				\n			\n				\n				\n				\n				\n				\n				\n				\n				\n				\n				\n				FUTURE DATES: \nMay 4-5\, 2027May 2-3\, 2028May 1-2\, 2029April 30-May 1\, 2030 \nThe Texas State InterChurch Holiness Convention is held annually on the Tuesday and Wednesday before the first Thursday in May.
URL:https://ihconvention.com/event/texas-state-convention/
LOCATION:Sherman Bible Methodist Church\, 11141 State Highway 56 East\, Sherman\, TX\, 75090\, United States
CATEGORIES:Regional Events
ATTACH;FMTTYPE=image/jpeg:https://ihconvention.com/wp-content/uploads/2017/02/Texas.Sherman.jpg
END:VEVENT
BEGIN:VEVENT
DTSTART;VALUE=DATE:20260505
DTEND;VALUE=DATE:20260508
DTSTAMP:20260420T081239
CREATED:20251016T143610Z
LAST-MODIFIED:20260226T170325Z
UID:42612-1777939200-1778198399@ihconvention.com
SUMMARY:Western Pennsylvania Convention
DESCRIPTION:Wesleyan Methodist Church \n1337 Buffalo Street\, Franklin \n(Tuesday-Thursday) \n			\n			\n				\n				\n				\n				\n			\n				\n				\n				\n				\n				\n				\n				\n				\n				\n				\n				\n			\n			\n				\n				\n				\n				\n				\n				\n				\n				\n				\n				\n			\n			\n				\n				\n				\n				\n				\n				\n				\n				\n				\n				\n			\n			\n				\n				\n				\n				\n			\n				\n				\n				\n				\n				\n				\n				\n				\n				\n				\n				Convention Moderator \nDaniel Stetler \nPreaching \nDavid Fulton and Daniel Stetler \nSinging \nDerek McIntire family \nInformation \nHost Pastor: Jonathan Bell 814-432-5366 \n			\n			\n				\n				\n				\n				\n				\n				\n				\n				\n				\n				Service Schedule \nTuesday \n7:00 PM Music: Allegheny Wesleyan College7:30 PM Opening Service \nWednesday \n10:45 AM Morning Service \n12:00 NOON Fasting and Prayer \n7:30 PM Evening Service \nThursday \n10:45 AM Morning Service \n7:00 PM Music:7:30 PM Closing Service \n			\n			\n				\n				\n				\n				\n			\n				\n				\n				\n				\n				\n				\n				\n				\n				\n				\n				FUTURE DATES: \nMay 4-6\, 2027May 2-4\, 2028May 1-3\, 2029 \nThe Western Pennsylvania InterChurch Holiness Convention is held Tuesday-Thursday ending the first Thursday in May.
URL:https://ihconvention.com/event/western-pennsylvania-convention/
LOCATION:Wesleyan Methodist Church (Franklin)\, 1337 Buffalo Street\, Franklin\, PA\, 16323\, United States
CATEGORIES:Regional Events
ATTACH;FMTTYPE=image/jpeg:https://ihconvention.com/wp-content/uploads/2017/02/Pennsylvania_Franklin-e1772124271451.jpg
END:VEVENT
BEGIN:VEVENT
DTSTART;VALUE=DATE:20260506
DTEND;VALUE=DATE:20260507
DTSTAMP:20260420T081239
CREATED:20260227T213358Z
LAST-MODIFIED:20260318T170128Z
UID:49608-1778025600-1778111999@ihconvention.com
SUMMARY:New Jersey State Rally
DESCRIPTION:Pilgrim Holiness Church \n1853 Mays Landing Road\, Millville \n(Wednesday) \n			\n			\n				\n				\n				\n				\n			\n				\n				\n				\n				\n				\n				\n				\n				\n				\n				\n				\n			\n			\n				\n				\n				\n				\n				\n				\n				\n				\n				\n				\n			\n			\n				\n				\n				\n				\n			\n				\n				\n				\n				\n				\n				\n				\n				\n				\n				\n				Preaching \nRob Dicken \nMusic \nDan Hardy Family \n			\n			\n				\n				\n				\n				\n				\n				\n				\n				\n				\n				Service Schedule \nWednesday \n7:00 PM Evening Service \nInformation \nContact: Sharon Kruck 609-224-0295 \n			\n			\n				\n				\n				\n				\n			\n				\n				\n				\n				\n				\n				\n				\n				\n				\n				\n				FUTURE DATES: \nMay 5\, 2027May 10\, 2028May 9\, 2029 \nThe New Jersey InterChurch Holiness Rally is held the Wednesday following the first Sunday in May. \n			\n				\n				\n				\n				\n				\nView All Regional Events
URL:https://ihconvention.com/event/new-jersey-state-rally/
LOCATION:Pilgrim Holiness Church (Millville)\, 1853 Mays Landing Road\, Millville\, NJ\, 08332\, United States
CATEGORIES:Regional Events
ATTACH;FMTTYPE=image/jpeg:https://ihconvention.com/wp-content/uploads/2018/04/NewJersey.jpg
END:VEVENT
END:VCALENDAR