BEGIN:VCALENDAR
VERSION:2.0
PRODID:-//IHC - ECPv6.15.20//NONSGML v1.0//EN
CALSCALE:GREGORIAN
METHOD:PUBLISH
X-ORIGINAL-URL:https://ihconvention.com
X-WR-CALDESC:Events for IHC
REFRESH-INTERVAL;VALUE=DURATION:PT1H
X-Robots-Tag:noindex
X-PUBLISHED-TTL:PT1H
BEGIN:VTIMEZONE
TZID:America/New_York
BEGIN:DAYLIGHT
TZOFFSETFROM:-0500
TZOFFSETTO:-0400
TZNAME:EDT
DTSTART:20250309T070000
END:DAYLIGHT
BEGIN:STANDARD
TZOFFSETFROM:-0400
TZOFFSETTO:-0500
TZNAME:EST
DTSTART:20251102T060000
END:STANDARD
BEGIN:DAYLIGHT
TZOFFSETFROM:-0500
TZOFFSETTO:-0400
TZNAME:EDT
DTSTART:20260308T070000
END:DAYLIGHT
BEGIN:STANDARD
TZOFFSETFROM:-0400
TZOFFSETTO:-0500
TZNAME:EST
DTSTART:20261101T060000
END:STANDARD
BEGIN:DAYLIGHT
TZOFFSETFROM:-0500
TZOFFSETTO:-0400
TZNAME:EDT
DTSTART:20270314T070000
END:DAYLIGHT
BEGIN:STANDARD
TZOFFSETFROM:-0400
TZOFFSETTO:-0500
TZNAME:EST
DTSTART:20271107T060000
END:STANDARD
END:VTIMEZONE
BEGIN:VEVENT
DTSTART;VALUE=DATE:20260527
DTEND;VALUE=DATE:20260530
DTSTAMP:20260420T081237
CREATED:20251125T200107Z
LAST-MODIFIED:20260304T195957Z
UID:48338-1779840000-1780099199@ihconvention.com
SUMMARY:New York Summer Convention
DESCRIPTION:God’s Missionary Church \n207 North Madison Street\, Rome \n(Wednesday- Friday) \n			\n			\n				\n				\n				\n				\n			\n				\n				\n				\n				\n				\n				\n				\n				\n				\n				\n				\n			\n			\n				\n				\n				\n				\n				\n				\n				\n				\n				\n				\n			\n			\n				\n				\n				\n				\n				\n				\n				\n				\n				\n				\n			\n			\n				\n				\n				\n				\n			\n				\n				\n				\n				\n				\n				\n				\n				\n				\n				\n				Convention ModeratorKeith Ledford \nPreachingJustin Jackman and Keith Ledford \nSinging \nJeff Self Family \nInformation \nPastor: Matt Kilgore (315) 281-4681 \n			\n			\n				\n				\n				\n				\n				\n				\n				\n				\n				\n				Service Schedule \nWednesday \nEvening Service 7:00 PM \nThursday \nEvening Service 7:00 PM \nFriday \nEvening Service 7:00 PM \n  \n			\n			\n				\n				\n				\n				\n			\n				\n				\n				\n				\n				\n				\n				\n				\n				\n				\n				FUTURE DATES: \n\n\nJune 2-4\, 2027May 31-June 2\, 2028May 30-June 1\, 2029May 29-31\, 2030May 28-30\, 2031 \nThe New York Summer InterChurch Holiness Convention is held for three days beginning the Wednesday after Memorial Day.
URL:https://ihconvention.com/event/new-york-summer-convention-2/
LOCATION:God’s Missionary Church (Rome)\, 207 North Madison Street\, Rome\, NY\, 13440\, United States
CATEGORIES:Regional Events
ATTACH;FMTTYPE=image/jpeg:https://ihconvention.com/wp-content/uploads/2019/03/NewYork.Rome_.jpg
END:VEVENT
END:VCALENDAR