BEGIN:VCALENDAR
VERSION:2.0
PRODID:-//IHC - ECPv6.15.20//NONSGML v1.0//EN
CALSCALE:GREGORIAN
METHOD:PUBLISH
X-WR-CALNAME:IHC
X-ORIGINAL-URL:https://ihconvention.com
X-WR-CALDESC:Events for IHC
REFRESH-INTERVAL;VALUE=DURATION:PT1H
X-Robots-Tag:noindex
X-PUBLISHED-TTL:PT1H
BEGIN:VTIMEZONE
TZID:Pacific/Guam
BEGIN:STANDARD
TZOFFSETFROM:+1000
TZOFFSETTO:+1000
TZNAME:ChST
DTSTART:20240101T000000
END:STANDARD
END:VTIMEZONE
BEGIN:VTIMEZONE
TZID:Pacific/Saipan
BEGIN:STANDARD
TZOFFSETFROM:+1000
TZOFFSETTO:+1000
TZNAME:ChST
DTSTART:20240101T000000
END:STANDARD
END:VTIMEZONE
BEGIN:VTIMEZONE
TZID:America/Chicago
BEGIN:DAYLIGHT
TZOFFSETFROM:-0600
TZOFFSETTO:-0500
TZNAME:CDT
DTSTART:20240310T080000
END:DAYLIGHT
BEGIN:STANDARD
TZOFFSETFROM:-0500
TZOFFSETTO:-0600
TZNAME:CST
DTSTART:20241103T070000
END:STANDARD
BEGIN:DAYLIGHT
TZOFFSETFROM:-0600
TZOFFSETTO:-0500
TZNAME:CDT
DTSTART:20250309T080000
END:DAYLIGHT
BEGIN:STANDARD
TZOFFSETFROM:-0500
TZOFFSETTO:-0600
TZNAME:CST
DTSTART:20251102T070000
END:STANDARD
BEGIN:DAYLIGHT
TZOFFSETFROM:-0600
TZOFFSETTO:-0500
TZNAME:CDT
DTSTART:20260308T080000
END:DAYLIGHT
BEGIN:STANDARD
TZOFFSETFROM:-0500
TZOFFSETTO:-0600
TZNAME:CST
DTSTART:20261101T070000
END:STANDARD
END:VTIMEZONE
BEGIN:VEVENT
DTSTART;VALUE=DATE:20250825
DTEND;VALUE=DATE:20250827
DTSTAMP:20260420T231949
CREATED:20250320T150110Z
LAST-MODIFIED:20250320T150110Z
UID:41706-1756080000-1756252799@ihconvention.com
SUMMARY:Guam Convention
DESCRIPTION:Guam Bible Fellowship196 Chalan Josen Olympia\, Dededo \n(Monday – Tuesday) \n			\n				\n				\n				\n				\n				   \n			\n			\n				\n				\n				\n				\n			\n				\n				\n				\n				\n				\n				\n				\n				\n				\n				\n				Moderator \nStephen Cassady \nPreaching \nDavid Fulton \nSinging \nStephen\, Nicole and Ashton Cassady \nInformation \nContact: Rufina Javier 671-997-2256 \n			\n			\n				\n				\n				\n				\n				\n				\n				\n				\n				\n				Service Schedule \nMonday \n7:00 PM Evening Service \nTuesday  \n7:00 PM Evening Service \n			\n			\n				\n				\n				\n				\n			\n				\n				\n				\n				\n				\n				\n				\n				\n				\n				\n				FUTURE DATES: \nTo Be Announced \n  \nThe Guam InterChurch Holiness Convention is an annual convention held for two daysMonday and Tuesday before Labor Day weekend. \n			\n				\n				\n				\n				\n				\nView All Regional Events
URL:https://ihconvention.com/event/guam-convention/
LOCATION:OH
CATEGORIES:Regional Events
ATTACH;FMTTYPE=image/jpeg:https://ihconvention.com/wp-content/uploads/2025/03/Guam.jpg
END:VEVENT
BEGIN:VEVENT
DTSTART;VALUE=DATE:20250822
DTEND;VALUE=DATE:20250825
DTSTAMP:20260420T231949
CREATED:20250320T141157Z
LAST-MODIFIED:20250320T141157Z
UID:41699-1755820800-1756079999@ihconvention.com
SUMMARY:Saipan Convention
DESCRIPTION:Travel Along With Us \n(Friday-Sunday) \n			\n				\n				\n				\n				\n				   \n			\n			\n				\n				\n				\n				\n			\n				\n				\n				\n				\n				\n				\n				\n				\n				\n				\n				Moderator \nStephen Cassady \nPreaching \nDavid Fulton and Stephen Cassady \nSinging \nStephen Nicole and Ashton Cassady \n\n			\n			\n				\n				\n				\n				\n				\n				\n				\n				\n				\n				Service Schedule \nFriday \nSaipan Bible Fellowship Liberation Lane\, Gualo Rai\, Saipan7:00 PM Evening Service Pastor: Lilian Handayan 670-788-2036 \nSaturday \nSaipan Bible Fellowship Liberation Lane\, Gualo Rai\, Saipan 9:00 AM Morning Service Pastor: Lilian Handayan 670-788-2036 \nSunday \nRoyal Taga Hall\, World Resort Beach Road\, Susupe\, Saipan 9:00 AM Morning Service Pastor Alvaro Samonte 670-235-7232 \nSaipan Bible Fellowship Liberation Lane\, Gualo Rai\, Saipan 6:00 PM Evening Service Pastor Lilian Handayan 670-788-2036 \n			\n			\n				\n				\n				\n				\n			\n				\n				\n				\n				\n				\n				\n				\n				\n				\n				\n				FUTURE DATES: \nTo Be Announced \n  \nThe Saipan InterChurch Holiness Convention is an annual convention held for three days the weekend before Labor Day weekend.. \n			\n				\n				\n				\n				\n				\nView All Regional Events
URL:https://ihconvention.com/event/saipan-convention/
LOCATION:OH
CATEGORIES:Regional Events
ATTACH;FMTTYPE=image/jpeg:https://ihconvention.com/wp-content/uploads/2017/02/Saipan.jpg
END:VEVENT
BEGIN:VEVENT
DTSTART;VALUE=DATE:20250121
DTEND;VALUE=DATE:20250124
DTSTAMP:20260420T231949
CREATED:20240618T155035Z
LAST-MODIFIED:20240618T155035Z
UID:40742-1737417600-1737676799@ihconvention.com
SUMMARY:Peru National Assembly and Holiness Convention
DESCRIPTION:Iglesia Evangélica de los Peregrinos del PeruEvangelical Church of the Pilgrims of Peru \ncalle La Florida #608\, Urbanización San Eduardo Chiclayo\, PeruLa Florida Street #608 San Eduardo Chiclayo Urbanization\, Peru \n(Tuesday – Sunday) \n			\n				\n				\n				\n				\n				    \n			\n			\n				\n				\n				\n				\n			\n				\n				\n				\n				\n				\n				\n				\n				\n				\n				\n				Preaching \nJames Plank\, Sidney Grant\, John Whitaker\, Steve Gibson \nInformation \nCoordinator: Raymond ShreveHost Pastor: Ivan Rojas +51 (74) 226 067iglesiadelosperegrinos@iep-p.pe \n			\n			\n				\n				\n				\n				\n				\n				\n				\n				\n				\n				Service Schedule(service times are subject to change) \nTuesday  \nEvening Service \nWednesday  \nMorning Session 1Morning Session 2 \nAfternoon Session \nEvening Service \nThursday \nMorning Session 1Morning Session 2 \nAfternoon Session \nEvening Service \n\n\n			\n			\n				\n				\n				\n				\n			\n				\n				\n				\n				\n				\n				\n				\n				\n				\n				\n				FUTURE DATES: \nTo Be Announced \nThe Peru National InterChurch Holiness Convention is held in conjunction with thePeru National Assembly of the Pilgrim Church\, Peru.The Assembly meets annually rotating between General Assembly and Regional Assembly. \n			\n				\n				\n				\n				\n				\nView All Regional Events
URL:https://ihconvention.com/event/peru-national-assembly-and-holiness-convention/
LOCATION:OH
CATEGORIES:Regional Events
ATTACH;FMTTYPE=image/jpeg:https://ihconvention.com/wp-content/uploads/2024/06/Peru.Chiclayo.jpg
END:VEVENT
END:VCALENDAR