BEGIN:VCALENDAR
VERSION:2.0
PRODID:-//IHC - ECPv6.15.20//NONSGML v1.0//EN
CALSCALE:GREGORIAN
METHOD:PUBLISH
X-ORIGINAL-URL:https://ihconvention.com
X-WR-CALDESC:Events for IHC
REFRESH-INTERVAL;VALUE=DURATION:PT1H
X-Robots-Tag:noindex
X-PUBLISHED-TTL:PT1H
BEGIN:VTIMEZONE
TZID:America/New_York
BEGIN:DAYLIGHT
TZOFFSETFROM:-0500
TZOFFSETTO:-0400
TZNAME:EDT
DTSTART:20250309T070000
END:DAYLIGHT
BEGIN:STANDARD
TZOFFSETFROM:-0400
TZOFFSETTO:-0500
TZNAME:EST
DTSTART:20251102T060000
END:STANDARD
BEGIN:DAYLIGHT
TZOFFSETFROM:-0500
TZOFFSETTO:-0400
TZNAME:EDT
DTSTART:20260308T070000
END:DAYLIGHT
BEGIN:STANDARD
TZOFFSETFROM:-0400
TZOFFSETTO:-0500
TZNAME:EST
DTSTART:20261101T060000
END:STANDARD
BEGIN:DAYLIGHT
TZOFFSETFROM:-0500
TZOFFSETTO:-0400
TZNAME:EDT
DTSTART:20270314T070000
END:DAYLIGHT
BEGIN:STANDARD
TZOFFSETFROM:-0400
TZOFFSETTO:-0500
TZNAME:EST
DTSTART:20271107T060000
END:STANDARD
END:VTIMEZONE
BEGIN:VTIMEZONE
TZID:America/Guatemala
BEGIN:STANDARD
TZOFFSETFROM:-0600
TZOFFSETTO:-0600
TZNAME:CST
DTSTART:20250101T000000
END:STANDARD
END:VTIMEZONE
BEGIN:VTIMEZONE
TZID:America/Los_Angeles
BEGIN:DAYLIGHT
TZOFFSETFROM:-0800
TZOFFSETTO:-0700
TZNAME:PDT
DTSTART:20250309T100000
END:DAYLIGHT
BEGIN:STANDARD
TZOFFSETFROM:-0700
TZOFFSETTO:-0800
TZNAME:PST
DTSTART:20251102T090000
END:STANDARD
BEGIN:DAYLIGHT
TZOFFSETFROM:-0800
TZOFFSETTO:-0700
TZNAME:PDT
DTSTART:20260308T100000
END:DAYLIGHT
BEGIN:STANDARD
TZOFFSETFROM:-0700
TZOFFSETTO:-0800
TZNAME:PST
DTSTART:20261101T090000
END:STANDARD
BEGIN:DAYLIGHT
TZOFFSETFROM:-0800
TZOFFSETTO:-0700
TZNAME:PDT
DTSTART:20270314T100000
END:DAYLIGHT
BEGIN:STANDARD
TZOFFSETFROM:-0700
TZOFFSETTO:-0800
TZNAME:PST
DTSTART:20271107T090000
END:STANDARD
END:VTIMEZONE
BEGIN:VEVENT
DTSTART;VALUE=DATE:20260310
DTEND;VALUE=DATE:20260313
DTSTAMP:20260420T063537
CREATED:20250828T180230Z
LAST-MODIFIED:20260225T203906Z
UID:42498-1773100800-1773359999@ihconvention.com
SUMMARY:Northwest Ohio Traveling Convention
DESCRIPTION:Northwest Ohio Traveling Convention \nTravel Along With Us \n(Tuesday-Friday) \n			\n			\n				\n				\n				\n				\n			\n				\n				\n				\n				\n				\n				\n				\n				\n				\n				\n				\n			\n			\n				\n				\n				\n				\n				\n				\n				\n				\n				\n				\n			\n			\n				\n				\n				\n				\n				\n				\n				\n				\n				\n				\n			\n			\n				\n				\n				\n				\n			\n				\n				\n				\n				\n				\n				\n				\n				\n				\n				\n				Convention ModeratorJonathan Edwards \nPreachingMatt Hallam \nSingingChris and Constance Dewhurst \nInformationCoordinator: Stephen Cassady 570-658-1030 \n			\n			\n				\n				\n				\n				\n				\n				\n				\n				\n				\n				Service Schedule \nTuesday \nDelaware God’s Missionary Church380 North Union Street\, DelawareContact: Luke Byer 740-475-9200~~~~~7:00 PM Evening Service \nWednesday \nFindlay Bible Methodist Church529 Stadium Drive\, FindlayHost Pastor: Travis Johnson 419-422-3125~~~~~7:00 PM Evening Service \nThursday \nPilgrim Holiness Church2100 West Breese Road\, LimaHost Pastor: Don Nichols 419-234-6335~~~~~7:00 PM Evening Service \n			\n			\n				\n				\n				\n				\n			\n				\n				\n				\n				\n				\n				\n				\n				\n				\n				\n				FUTURE DATES: \nMarch 9-11\, 2027March 14-16\, 2028 \nThe Northwest Ohio InterChurch Holiness Convention is held the Tuesday thru Thursday beginning the second Tuesday in March.
URL:https://ihconvention.com/event/northwest-ohio-traveling-convention/
LOCATION:Bible Holiness Church (Ohio)\, 370 North Union Street\, Delaware\, OH\, 43015\, United States
CATEGORIES:Regional Events
ATTACH;FMTTYPE=image/jpeg:https://ihconvention.com/wp-content/uploads/2020/06/Ohio.Northwest.jpg
END:VEVENT
BEGIN:VEVENT
DTSTART;VALUE=DATE:20260319
DTEND;VALUE=DATE:20260322
DTSTAMP:20260420T063537
CREATED:20260226T035846Z
LAST-MODIFIED:20260227T181240Z
UID:49354-1773878400-1774137599@ihconvention.com
SUMMARY:PAS Guatemala Convention
DESCRIPTION:Villas Magen\, El Naranjo\, Guatemala\, C.A. \n(Thursday – Saturday) \n			\n			\n				\n				\n				\n				\n			\n				\n				\n				\n				\n				\n				\n				\n				\n				\n				\n				General Topics \nThe Origin of WorshipThe Purpose of WorshipThe Work of WorshipThe Workers in WorshipThe Order in Worship \n\n			\n			\n				\n				\n				\n				\n				\n				\n				\n				\n				\n				Speakers \nMichael MasonGuillermo CamposecoJosue DiazNisael GalvezLibni Garcia \nAlex Camoseco – YouthHelen Reiff – WomenLiset Bravo- Children \n			\n			\n				\n				\n				\n				\n			\n				\n				\n				\n				\n				\n				\n				\n				\n				\n				\n				772-486-2209  |  Email: info@pasenlinea.com  |  Web: pasenlinea.com \n			\n				\n				\n				\n				\n				\nView All Regional Events
URL:https://ihconvention.com/event/pas-guatemala-convention/
LOCATION:Villas Magen\, El Naranjo\, Guatemala\, C. A.\, El Naranjo\, Guatemala
CATEGORIES:PAS Events
ATTACH;FMTTYPE=image/png:https://ihconvention.com/wp-content/uploads/2026/02/PAS.logo_.26.png
ORGANIZER;CN="Rex McDowell":MAILTO:info@pasenlinea.com
END:VEVENT
BEGIN:VEVENT
DTSTART;VALUE=DATE:20260324
DTEND;VALUE=DATE:20260330
DTSTAMP:20260420T063537
CREATED:20250912T200336Z
LAST-MODIFIED:20251123T044224Z
UID:42555-1774310400-1774828799@ihconvention.com
SUMMARY:Alaska State Convention
DESCRIPTION:North Pole Missionary Chapel\n2485 Dawson Road\, North Pole\n(Tuesday-Sunday)\n			\n			\n				\n				\n				\n				\n			\n				\n				\n				\n				\n				\n				\n				\n				\n				\n				\n				\n			\n			\n				\n				\n				\n				\n			\n				\n				\n				\n				\n				\n				\n				\n				\n				\n				\n				PreachingClair Sams \nInformationHost Pastor: Randy Huff 540-597-7476 \n			\n			\n				\n				\n				\n				\n				\n				\n				\n				\n				\n				Service Schedule \nTuesday-Saturday \n7:00 pm Evening Service \nSunday \n6:00 PM Evening Service \n			\n			\n				\n				\n				\n				\n			\n				\n				\n				\n				\n				\n				\n				\n				\n				\n				\n				FUTURE DATES: \nMarch 16-21\, 2027*March 21-26\, 2028 \nThe Alaska InterChurch Holiness Convention\, sponsored by the Far North Missionary Fellowship\, is held each year Tuesday-Sunday\, ending the last Sunday in March.*The convention moves to the week previous if it closes on Easter Sunday.
URL:https://ihconvention.com/event/alaska-state-convention/
LOCATION:North Pole Missionary Chapel\, 2485 Dawson Road\, North Pole\, AK\, 99705\, United States
CATEGORIES:Regional Events
ATTACH;FMTTYPE=image/jpeg:https://ihconvention.com/wp-content/uploads/2018/02/Alaska.jpg
END:VEVENT
END:VCALENDAR